BEGIN:VCALENDAR
VERSION:2.0
PRODID:-//Pomerene Elementary School - ECPv6.15.17.1//NONSGML v1.0//EN
CALSCALE:GREGORIAN
METHOD:PUBLISH
X-WR-CALNAME:Pomerene Elementary School
X-ORIGINAL-URL:https://www.pomereneschool.org
X-WR-CALDESC:Events for Pomerene Elementary School
REFRESH-INTERVAL;VALUE=DURATION:PT1H
X-Robots-Tag:noindex
X-PUBLISHED-TTL:PT1H
BEGIN:VTIMEZONE
TZID:America/Phoenix
BEGIN:STANDARD
TZOFFSETFROM:-0700
TZOFFSETTO:-0700
TZNAME:MST
DTSTART:20250101T000000
END:STANDARD
END:VTIMEZONE
BEGIN:VEVENT
DTSTART;VALUE=DATE:20260421
DTEND;VALUE=DATE:20260422
DTSTAMP:20260422T031538
CREATED:20260420T172341Z
LAST-MODIFIED:20260420T172341Z
UID:10001101-1776729600-1776815999@www.pomereneschool.org
SUMMARY:State Testing: AZ Math Testing (Grades 3 through 8)
DESCRIPTION:
URL:https://www.pomereneschool.org/event/state-testing-az-math-testing-grades-3-through-8-2
END:VEVENT
END:VCALENDAR